BEGIN:VCALENDAR
VERSION:2.0
PRODID:-//eventon.com NONSGML v1.0//EN
CALSCALE:GREGORIAN
METHOD:PUBLISH
BEGIN:VEVENT
UID:69e9d329e37d1
DTSTAMP:20260423T080705Z
DTSTART:20230114T090000Z
DTEND:20230114T170000Z
LOCATION:KAS 100 Konrad-Adenauer-Straße 100\,  Solingen
SUMMARY:E-Textiles Workshop
DESCRIPTION:Mit dem Laden des Videos akzeptieren Sie die Datenschutzerklär
 ung von YouTube.Mehr erfahren Video laden YouTube immer entsperren PGlmcmFt
 ZSB0aXRsZT0iU2FtcGxlIG1pdCAzZC1nZWRydWNrdGVuIERpYW1hbnRlbiIgd2lkdGg9IjgwMCI
 gaGVpZ2h0PSI0NTAiIHNyYz0iaHR0cHM6Ly93d3cueW91dHViZS1ub2Nvb2tpZS5jb20vZW1iZW
 QvaVZpVHBYaGg2TFU/ZmVhdHVyZT1vZW1iZWQiIGZyYW1lYm9yZGVyPSIwIiBhbGxvdz0iYWNjZ
 Wxlcm9tZXRlcjsgYXV0b3BsYXk7IGNsaXBib2FyZC13cml0ZTsgZW5jcnlwdGVkLW1lZGlhOyBn
 eXJvc2NvcGU7IHBpY3R1cmUtaW4tcGljdHVyZTsgd2ViLXNoYXJlIiByZWZlcnJlcnBvbGljeT0
 ic3RyaWN0LW9yaWdpbi13aGVuLWNyb3NzLW9yaWdpbiIgYWxsb3dmdWxsc2NyZWVuPjwvaWZyYW
 1lPg== In diesem Workshop bringen wir Textilien mit Strom und Programmierun
 g zusammen. Ich zeige Dir\,  wie Du mit leitenden Garnen und Stoffen funkti
 onierende Stromkreise nähst\,  stickst\,  strickst\,  häkelst und webst. 
 Wie Du LEDs[..]\nhttps://yvonnedicketmueller.de/events/e-textiles-workshop-
 fuer-jugendliche/
URL:https://yvonnedicketmueller.de/events/e-textiles-workshop-fuer-jugendliche/
END:VEVENT
END:VCALENDAR